BEGIN:VCALENDAR
VERSION:2.0
PRODID:SchoolNow
CALSCALE:GREGORIAN
BEGIN:VEVENT
UID:ed509d52-ba84-11f0-8cb4-0affea2ec1a3
DTSTAMP:20251216T154557Z
SUMMARY:Girls Basketball @ St. Joseph's  JV Tourney BR
URL;VALUE=URI:https://www.lpssonline.com/schools/acadiana/calendar/8779535/
 girls-basketball-st-josephs-jv-tourney-br
DTSTART;VALUE=DATE:20260110
DTEND;VALUE=DATE:20260111
END:VEVENT
END:VCALENDAR
