BEGIN:VCALENDAR
VERSION:2.0
PRODID:SchoolNow
CALSCALE:GREGORIAN
BEGIN:VEVENT
UID:ed509f8c-ba84-11f0-b46e-0affea2ec1a3
DTSTAMP:20251216T154556Z
SUMMARY:Girls Basketball @ Sam Houston
URL;VALUE=URI:https://www.lpssonline.com/schools/acadiana/calendar/8779536/
 girls-basketball-sam-houston
DTSTART:20260123T233000Z
DTEND:20260124T020000Z
END:VEVENT
END:VCALENDAR
