BEGIN:VCALENDAR
VERSION:2.0
PRODID:SchoolNow
CALSCALE:GREGORIAN
BEGIN:VEVENT
UID:ed50a0cc-ba84-11f0-9866-0affea2ec1a3
DTSTAMP:20251216T154557Z
SUMMARY:Boys & Girls  Basketball @ NISH
URL;VALUE=URI:https://www.lpssonline.com/schools/acadiana/calendar/8779537/
 boys-girls-basketball-nish
DTSTART:20260130T233000Z
DTEND:20260131T023000Z
END:VEVENT
END:VCALENDAR
