BEGIN:VCALENDAR
VERSION:2.0
PRODID:SchoolNow
CALSCALE:GREGORIAN
BEGIN:VEVENT
UID:ed50a252-ba84-11f0-9ac0-0affea2ec1a3
DTSTAMP:20251216T154556Z
SUMMARY:Boys Basketball @ Southside
URL;VALUE=URI:https://www.lpssonline.com/schools/acadiana/calendar/8779538/
 boys-basketball-southside
DTSTART:20260213T233000Z
DTEND:20260214T030000Z
END:VEVENT
END:VCALENDAR
