BEGIN:VCALENDAR
VERSION:2.0
PRODID:SchoolNow
CALSCALE:GREGORIAN
BEGIN:VEVENT
UID:ed50a388-ba84-11f0-bdcf-0affea2ec1a3
DTSTAMP:20251216T154557Z
SUMMARY:Boys Basketball vs Rayne (H)
URL;VALUE=URI:https://www.lpssonline.com/schools/acadiana/calendar/8779539/
 boys-basketball-vs-rayne-h
DTSTART:20251120T233000Z
DTEND:20251121T013000Z
END:VEVENT
END:VCALENDAR
