BEGIN:VCALENDAR
VERSION:2.0
PRODID:SchoolNow
CALSCALE:GREGORIAN
BEGIN:VEVENT
UID:ed50a4dc-ba84-11f0-8a2b-0affea2ec1a3
DTSTAMP:20251216T154556Z
SUMMARY:Girls Basketball vs Carencro (Youth Night) (H)
URL;VALUE=URI:https://www.lpssonline.com/schools/acadiana/calendar/8779540/
 girls-basketball-vs-carencro-youth-night-h
DTSTART:20260127T233000Z
DTEND:20260128T020000Z
END:VEVENT
END:VCALENDAR
