BEGIN:VCALENDAR
VERSION:2.0
PRODID:SchoolNow
CALSCALE:GREGORIAN
BEGIN:VEVENT
UID:ed50a64e-ba84-11f0-9eee-0affea2ec1a3
DTSTAMP:20251216T154557Z
SUMMARY:Girls Basketball vs East Feliciana
URL;VALUE=URI:https://www.lpssonline.com/schools/acadiana/calendar/8779541/
 girls-basketball-vs-east-feliciana
DTSTART:20260112T233000Z
DTEND:20260113T013000Z
END:VEVENT
END:VCALENDAR
