BEGIN:VCALENDAR
VERSION:2.0
PRODID:SchoolNow
CALSCALE:GREGORIAN
BEGIN:VEVENT
UID:ed50a734-ba84-11f0-ba82-0affea2ec1a3
DTSTAMP:20251216T154557Z
SUMMARY:Girls Basketball @ Alexandria Tourney
URL;VALUE=URI:https://www.lpssonline.com/schools/acadiana/calendar/8779542/
 girls-basketball-alexandria-tourney
DTSTART;VALUE=DATE:20251229
DTEND;VALUE=DATE:20251230
END:VEVENT
END:VCALENDAR
