BEGIN:VCALENDAR
VERSION:2.0
PRODID:SchoolNow
CALSCALE:GREGORIAN
BEGIN:VEVENT
UID:ed50a86a-ba84-11f0-9412-0affea2ec1a3
DTSTAMP:20251216T154557Z
SUMMARY:Girls Basketball vs Westgate (Teacher MAD Game)(H)
URL;VALUE=URI:https://www.lpssonline.com/schools/acadiana/calendar/8779543/
 girls-basketball-vs-westgate-teacher-mad-game-h
DTSTART:20260120T233000Z
DTEND:20260121T020000Z
END:VEVENT
END:VCALENDAR
