BEGIN:VCALENDAR
VERSION:2.0
PRODID:SchoolNow
CALSCALE:GREGORIAN
BEGIN:VEVENT
UID:ed50aacc-ba84-11f0-a15c-0affea2ec1a3
DTSTAMP:20251216T154557Z
SUMMARY:Girls & Boys Basketball vs Lafayette
URL;VALUE=URI:https://www.lpssonline.com/schools/acadiana/calendar/8779544/
 girls-boys-basketball-vs-lafayette
DTSTART:20260210T230000Z
DTEND:20260211T023000Z
END:VEVENT
END:VCALENDAR
