BEGIN:VCALENDAR
VERSION:2.0
PRODID:SchoolNow
CALSCALE:GREGORIAN
BEGIN:VEVENT
UID:ed50aca2-ba84-11f0-bc01-0affea2ec1a3
DTSTAMP:20251216T154557Z
SUMMARY:Girls Basketball @ New Iberia Tourney
URL;VALUE=URI:https://www.lpssonline.com/schools/acadiana/calendar/8779545/
 girls-basketball-new-iberia-tourney
DTSTART;VALUE=DATE:20251124
DTEND;VALUE=DATE:20251125
END:VEVENT
END:VCALENDAR
