BEGIN:VCALENDAR
VERSION:2.0
PRODID:SchoolNow
CALSCALE:GREGORIAN
BEGIN:VEVENT
UID:ed50adb0-ba84-11f0-9fae-0affea2ec1a3
DTSTAMP:20251216T154557Z
SUMMARY:Boys Basketball @ Cecilia
URL;VALUE=URI:https://www.lpssonline.com/schools/acadiana/calendar/8779546/
 boys-basketball-cecilia
DTSTART:20260129T000000Z
DTEND:20260129T020000Z
END:VEVENT
END:VCALENDAR
