BEGIN:VCALENDAR
VERSION:2.0
PRODID:SchoolNow
CALSCALE:GREGORIAN
BEGIN:VEVENT
UID:ed5c4ada-ba84-11f0-8364-0affea2ec1a3
DTSTAMP:20251216T154556Z
SUMMARY:GBB & BBB @ GEO Prep Baton Rouge
URL;VALUE=URI:https://www.lpssonline.com/schools/acadiana/calendar/8779547/
 gbb-bbb-geo-prep-baton-rouge
DTSTART:20260106T233000Z
DTEND:20260107T023000Z
END:VEVENT
END:VCALENDAR
