BEGIN:VCALENDAR
VERSION:2.0
PRODID:SchoolNow
CALSCALE:GREGORIAN
BEGIN:VEVENT
UID:ed5c4ecc-ba84-11f0-9407-0affea2ec1a3
DTSTAMP:20251216T154557Z
SUMMARY:Boys Basketball @ David Thibodeaux
URL;VALUE=URI:https://www.lpssonline.com/schools/acadiana/calendar/8779548/
 boys-basketball-david-thibodeaux
DTSTART:20260103T000000Z
DTEND:20260103T020000Z
END:VEVENT
END:VCALENDAR
