BEGIN:VCALENDAR
VERSION:2.0
PRODID:SchoolNow
CALSCALE:GREGORIAN
BEGIN:VEVENT
UID:ed5c5106-ba84-11f0-b714-0affea2ec1a3
DTSTAMP:20251216T154557Z
SUMMARY:Girls Basketball Southside JV Jamboree
URL;VALUE=URI:https://www.lpssonline.com/schools/acadiana/calendar/8779549/
 girls-basketball-southside-jv-jamboree
DTSTART:20251111T220000Z
DTEND:20251111T230000Z
END:VEVENT
END:VCALENDAR
