BEGIN:VCALENDAR
VERSION:2.0
PRODID:SchoolNow
CALSCALE:GREGORIAN
BEGIN:VEVENT
UID:ed5c5282-ba84-11f0-a9cb-0affea2ec1a3
DTSTAMP:20251216T154556Z
SUMMARY:Boys Basketball vs Barbe
URL;VALUE=URI:https://www.lpssonline.com/schools/acadiana/calendar/8779550/
 boys-basketball-vs-barbe
DTSTART:20260206T233000Z
DTEND:20260207T030000Z
END:VEVENT
END:VCALENDAR
