BEGIN:VCALENDAR
VERSION:2.0
PRODID:SchoolNow
CALSCALE:GREGORIAN
BEGIN:VEVENT
UID:ed5c53d6-ba84-11f0-839a-0affea2ec1a3
DTSTAMP:20251216T154557Z
SUMMARY:Girls Basketball @ New Iberia Tourney
URL;VALUE=URI:https://www.lpssonline.com/schools/acadiana/calendar/8779551/
 girls-basketball-new-iberia-tourney
DTSTART;VALUE=DATE:20251125
DTEND;VALUE=DATE:20251126
END:VEVENT
END:VCALENDAR
