BEGIN:VCALENDAR
VERSION:2.0
PRODID:SchoolNow
CALSCALE:GREGORIAN
BEGIN:VEVENT
UID:e64264ec-bb50-11f0-a42a-0e3209089563
DTSTAMP:20251216T154557Z
SUMMARY:Boys Soccer Scrimmage vs North Vermillion
LOCATION:V @ 10/ JV @ 11:15
URL;VALUE=URI:https://www.lpssonline.com/schools/acadiana/calendar/8781565/
 boys-soccer-scrimmage-vs-north-vermillion
DTSTART:20251108T171500Z
DTEND:20251108T180000Z
END:VEVENT
END:VCALENDAR
