BEGIN:VCALENDAR
VERSION:2.0
PRODID:SchoolNow
CALSCALE:GREGORIAN
BEGIN:VEVENT
UID:e64271b2-bb50-11f0-9b7a-0e3209089563
DTSTAMP:20251216T154557Z
SUMMARY:Veteran's Day Program
LOCATION:Boys Gym
URL;VALUE=URI:https://www.lpssonline.com/schools/acadiana/calendar/8781566/
 veterans-day-program
DTSTART:20251111T154500Z
DTEND:20251111T162500Z
END:VEVENT
END:VCALENDAR
