BEGIN:VCALENDAR
VERSION:2.0
PRODID:SchoolNow
CALSCALE:GREGORIAN
BEGIN:VEVENT
UID:e69dda5c-bb50-11f0-82f1-0e3209089563
DTSTAMP:20251216T154557Z
SUMMARY:Girls Soccer Scrimmage vs North Vermillion
LOCATION:Varsity @ 10/ JV @ 12:30
URL;VALUE=URI:https://www.lpssonline.com/schools/acadiana/calendar/8781567/
 girls-soccer-scrimmage-vs-north-vermillion
DTSTART:20251108T160000Z
DTEND:20251108T170000Z
END:VEVENT
END:VCALENDAR
