BEGIN:VCALENDAR
VERSION:2.0
PRODID:SchoolNow
CALSCALE:GREGORIAN
BEGIN:VEVENT
UID:e69de088-bb50-11f0-af7f-0e3209089563
DTSTAMP:20251216T154557Z
SUMMARY:Wrestling JV/ Freshman Tournament
LOCATION:East Ascension High/ Lamar Dixon
URL;VALUE=URI:https://www.lpssonline.com/schools/acadiana/calendar/8781568/
 wrestling-jv-freshman-tournament
DTSTART;VALUE=DATE:20251125
DTEND;VALUE=DATE:20251126
END:VEVENT
END:VCALENDAR
