BEGIN:VCALENDAR
VERSION:2.0
PRODID:SchoolNow
CALSCALE:GREGORIAN
BEGIN:VEVENT
UID:e69de1f0-bb50-11f0-ad06-0e3209089563
DTSTAMP:20251216T154557Z
SUMMARY:Wrestling @ Spartan Open Varsity Tournament
LOCATION:East Ascension High/ Lamar Dixon
URL;VALUE=URI:https://www.lpssonline.com/schools/acadiana/calendar/8781569/
 wrestling-spartan-open-varsity-tournament
DTSTART;VALUE=DATE:20251126
DTEND;VALUE=DATE:20251127
END:VEVENT
END:VCALENDAR
