BEGIN:VCALENDAR
VERSION:2.0
PRODID:SchoolNow
CALSCALE:GREGORIAN
BEGIN:VEVENT
UID:e69de312-bb50-11f0-b3e5-0e3209089563
DTSTAMP:20251216T154557Z
SUMMARY:Wrestling @ Tri-Meet EA/LHS Open
LOCATION:LHS
URL;VALUE=URI:https://www.lpssonline.com/schools/acadiana/calendar/8781570/
 wrestling-tri-meet-ea-lhs-open
DTSTART:20251112T230000Z
DTEND:20251113T000000Z
END:VEVENT
END:VCALENDAR
