BEGIN:VCALENDAR
VERSION:2.0
PRODID:SchoolNow
CALSCALE:GREGORIAN
BEGIN:VEVENT
UID:e69de59c-bb50-11f0-bbe5-0e3209089563
DTSTAMP:20251216T154556Z
SUMMARY:Wrestling @ Dale Ketelsen Invitationals
LOCATION:St. Paul High School
URL;VALUE=URI:https://www.lpssonline.com/schools/acadiana/calendar/8781571/
 wrestling-dale-ketelsen-invitationals
DTSTART;VALUE=DATE:20251108
DTEND;VALUE=DATE:20251109
END:VEVENT
END:VCALENDAR
