BEGIN:VCALENDAR
VERSION:2.0
PRODID:SchoolNow
CALSCALE:GREGORIAN
BEGIN:VEVENT
UID:e69de7fe-bb50-11f0-a4cc-0e3209089563
DTSTAMP:20251216T154557Z
SUMMARY:Wrestling @ Warrior Open
LOCATION:St. Michael High School
URL;VALUE=URI:https://www.lpssonline.com/schools/acadiana/calendar/8781572/
 wrestling-warrior-open
DTSTART;VALUE=DATE:20251108
DTEND;VALUE=DATE:20251109
END:VEVENT
END:VCALENDAR
