BEGIN:VCALENDAR
VERSION:2.0
PRODID:SchoolNow
CALSCALE:GREGORIAN
BEGIN:VEVENT
UID:e69de9fc-bb50-11f0-9532-0e3209089563
DTSTAMP:20251216T154556Z
SUMMARY:Wrestling @ STM Tournament
LOCATION:STM
URL;VALUE=URI:https://www.lpssonline.com/schools/acadiana/calendar/8781573/
 wrestling-stm-tournament
DTSTART;VALUE=DATE:20251122
DTEND;VALUE=DATE:20251123
END:VEVENT
END:VCALENDAR
