BEGIN:VCALENDAR
VERSION:2.0
PRODID:SchoolNow
CALSCALE:GREGORIAN
BEGIN:VEVENT
UID:e69deb1e-bb50-11f0-8f01-0e3209089563
DTSTAMP:20251216T154557Z
SUMMARY:Girls Wrestsling @ Walker Invitationals
LOCATION:Walker High School
URL;VALUE=URI:https://www.lpssonline.com/schools/acadiana/calendar/8781574/
 girls-wrestsling-walker-invitationals
DTSTART;VALUE=DATE:20251115
DTEND;VALUE=DATE:20251116
END:VEVENT
END:VCALENDAR
