BEGIN:VCALENDAR
VERSION:2.0
PRODID:SchoolNow
CALSCALE:GREGORIAN
BEGIN:VEVENT
UID:dd9d3926-bc1c-11f0-b072-0affea86061f
DTSTAMP:20251216T154557Z
SUMMARY:Junior Ring Ceremony
URL;VALUE=URI:https://www.lpssonline.com/schools/acadiana/calendar/8783587/
 junior-ring-ceremony
DTSTART;VALUE=DATE:20251210
DTEND;VALUE=DATE:20251211
END:VEVENT
END:VCALENDAR
