BEGIN:VCALENDAR
VERSION:2.0
PRODID:SchoolNow
CALSCALE:GREGORIAN
BEGIN:VEVENT
UID:dd9d3d86-bc1c-11f0-ae51-0affea86061f
DTSTAMP:20251216T154556Z
SUMMARY:Boys Soccer vs BR High (H)
URL;VALUE=URI:https://www.lpssonline.com/schools/acadiana/calendar/8783588/
 boys-soccer-vs-br-high-h
DTSTART:20251203T000000Z
DTEND:20251203T023000Z
END:VEVENT
END:VCALENDAR
