BEGIN:VCALENDAR
VERSION:2.0
PRODID:SchoolNow
CALSCALE:GREGORIAN
BEGIN:VEVENT
UID:dd9d3f20-bc1c-11f0-b612-0affea86061f
DTSTAMP:20251216T154556Z
SUMMARY:Boys Soccer @ Prairieville
URL;VALUE=URI:https://www.lpssonline.com/schools/acadiana/calendar/8783589/
 boys-soccer-prairieville
DTSTART:20251119T233000Z
DTEND:20251120T013000Z
END:VEVENT
END:VCALENDAR
