BEGIN:VCALENDAR
VERSION:2.0
PRODID:SchoolNow
CALSCALE:GREGORIAN
BEGIN:VEVENT
UID:dd9d46f0-bc1c-11f0-b419-0affea86061f
DTSTAMP:20251216T154557Z
SUMMARY:Boys Soccer @ David Thibodeaux
URL;VALUE=URI:https://www.lpssonline.com/schools/acadiana/calendar/8783590/
 boys-soccer-david-thibodeaux
DTSTART:20251209T233000Z
DTEND:20251210T013000Z
END:VEVENT
END:VCALENDAR
