BEGIN:VCALENDAR
VERSION:2.0
PRODID:SchoolNow
CALSCALE:GREGORIAN
BEGIN:VEVENT
UID:ded5f350-bc1c-11f0-be02-0affea86061f
DTSTAMP:20251216T154556Z
SUMMARY:Boy Soccer @ STM
URL;VALUE=URI:https://www.lpssonline.com/schools/acadiana/calendar/8783591/
 boy-soccer-stm
DTSTART:20251120T233000Z
DTEND:20251121T013000Z
END:VEVENT
END:VCALENDAR
