BEGIN:VCALENDAR
VERSION:2.0
PRODID:SchoolNow
CALSCALE:GREGORIAN
BEGIN:VEVENT
UID:ded5fe72-bc1c-11f0-964f-0affea86061f
DTSTAMP:20251216T154557Z
SUMMARY:Boys Soccer @ Denham Springs
URL;VALUE=URI:https://www.lpssonline.com/schools/acadiana/calendar/8783592/
 boys-soccer-denham-springs
DTSTART:20251129T180000Z
DTEND:20251129T210000Z
END:VEVENT
END:VCALENDAR
