BEGIN:VCALENDAR
VERSION:2.0
PRODID:SchoolNow
CALSCALE:GREGORIAN
BEGIN:VEVENT
UID:dedf66f6-bc1c-11f0-a8c4-0affea86061f
DTSTAMP:20251216T154557Z
SUMMARY:Boys Soccer  vs  NISH (H)
LOCATION:Varsity only
URL;VALUE=URI:https://www.lpssonline.com/schools/acadiana/calendar/8783593/
 boys-soccer-vs-nish-h
DTSTART:20251119T010000Z
DTEND:20251119T020000Z
END:VEVENT
END:VCALENDAR
