BEGIN:VCALENDAR
VERSION:2.0
PRODID:SchoolNow
CALSCALE:GREGORIAN
BEGIN:VEVENT
UID:dedf6aca-bc1c-11f0-8f4d-0affea86061f
DTSTAMP:20251216T154556Z
SUMMARY:Boys Soccer @ Acension
URL;VALUE=URI:https://www.lpssonline.com/schools/acadiana/calendar/8783594/
 boys-soccer-acension
DTSTART:20251212T233000Z
DTEND:20251213T020000Z
END:VEVENT
END:VCALENDAR
