BEGIN:VCALENDAR
VERSION:2.0
PRODID:SchoolNow
CALSCALE:GREGORIAN
BEGIN:VEVENT
UID:dedf6d90-bc1c-11f0-a83b-0affea86061f
DTSTAMP:20251216T154556Z
SUMMARY:Boys Soccer vs ARCA (H) Senior Night
URL;VALUE=URI:https://www.lpssonline.com/schools/acadiana/calendar/8783595/
 boys-soccer-vs-arca-h-senior-night
DTSTART:20251210T233000Z
DTEND:20251211T020000Z
END:VEVENT
END:VCALENDAR
