BEGIN:VCALENDAR
VERSION:2.0
PRODID:SchoolNow
CALSCALE:GREGORIAN
BEGIN:VEVENT
UID:c03a622c-be4d-11f0-bcdc-0a58a9feac02
DTSTAMP:20251216T154557Z
SUMMARY:Work Keys  Testing
URL;VALUE=URI:https://www.lpssonline.com/schools/acadiana/calendar/8787461/
 work-keys-testing
DTSTART;VALUE=DATE:20251216
DTEND;VALUE=DATE:20251217
END:VEVENT
END:VCALENDAR
