BEGIN:VCALENDAR
VERSION:2.0
PRODID:SchoolNow
CALSCALE:GREGORIAN
BEGIN:VEVENT
UID:c04038fa-be4d-11f0-928b-0a58a9feac02
DTSTAMP:20251216T154556Z
SUMMARY:Work Keys  Testing
URL;VALUE=URI:https://www.lpssonline.com/schools/acadiana/calendar/8787462/
 work-keys-testing
DTSTART;VALUE=DATE:20251218
DTEND;VALUE=DATE:20251219
END:VEVENT
END:VCALENDAR
