BEGIN:VCALENDAR
VERSION:2.0
PRODID:SchoolNow
CALSCALE:GREGORIAN
BEGIN:VEVENT
UID:b4e6f18e-bf19-11f0-b4e9-0a58a9feac02
DTSTAMP:20251216T154557Z
SUMMARY:Dance Practice
LOCATION:Cafeteria
URL;VALUE=URI:https://www.lpssonline.com/schools/acadiana/calendar/8789277/
 dance-practice
DTSTART:20251113T204500Z
DTEND:20251113T230000Z
END:VEVENT
END:VCALENDAR
