BEGIN:VCALENDAR
VERSION:2.0
PRODID:SchoolNow
CALSCALE:GREGORIAN
BEGIN:VEVENT
UID:754a98ce-c3e1-11f0-affc-0ec70281e507
DTSTAMP:20251216T154557Z
SUMMARY:Girls Soccer vs Cecilia (H)
LOCATION:Varsity only
URL;VALUE=URI:https://www.lpssonline.com/schools/acadiana/calendar/8799974/
 girls-soccer-vs-cecilia-h
DTSTART:20251118T233000Z
DTEND:20251119T003000Z
END:VEVENT
END:VCALENDAR
