BEGIN:VCALENDAR
VERSION:2.0
PRODID:SchoolNow
CALSCALE:GREGORIAN
BEGIN:VEVENT
UID:61d7a90a-c579-11f0-b838-0a58a9feac02
DTSTAMP:20251216T154557Z
SUMMARY:Girls Soccer vs LCA(H)
LOCATION:Varsity
URL;VALUE=URI:https://www.lpssonline.com/schools/acadiana/calendar/8803875/
 girls-soccer-vs-lca-h
DTSTART:20251205T000000Z
DTEND:20251205T013000Z
END:VEVENT
END:VCALENDAR
