BEGIN:VCALENDAR
VERSION:2.0
PRODID:SchoolNow
CALSCALE:GREGORIAN
BEGIN:VEVENT
UID:61d7ad06-c579-11f0-8145-0a58a9feac02
DTSTAMP:20251216T154556Z
SUMMARY:Girls Soccer @ Cecilia Round Robin
URL;VALUE=URI:https://www.lpssonline.com/schools/acadiana/calendar/8803876/
 girls-soccer-cecilia-round-robin
DTSTART;VALUE=DATE:20260110
DTEND;VALUE=DATE:20260111
END:VEVENT
END:VCALENDAR
