BEGIN:VCALENDAR
VERSION:2.0
PRODID:SchoolNow
CALSCALE:GREGORIAN
BEGIN:VEVENT
UID:61d7b03a-c579-11f0-98e8-0a58a9feac02
DTSTAMP:20251216T154557Z
SUMMARY:Boys Soccer @ COPA
URL;VALUE=URI:https://www.lpssonline.com/schools/acadiana/calendar/8803877/
 boys-soccer-copa
DTSTART;VALUE=DATE:20251218
DTEND;VALUE=DATE:20251219
END:VEVENT
END:VCALENDAR
