BEGIN:VCALENDAR
VERSION:2.0
PRODID:SchoolNow
CALSCALE:GREGORIAN
BEGIN:VEVENT
UID:61d7b3b4-c579-11f0-bcdd-0a58a9feac02
DTSTAMP:20251216T154556Z
SUMMARY:Girls Soccer @ EIL Tournament
URL;VALUE=URI:https://www.lpssonline.com/schools/acadiana/calendar/8803878/
 girls-soccer-eil-tournament
DTSTART;VALUE=DATE:20260103
DTEND;VALUE=DATE:20260104
END:VEVENT
END:VCALENDAR
