BEGIN:VCALENDAR
VERSION:2.0
PRODID:SchoolNow
CALSCALE:GREGORIAN
BEGIN:VEVENT
UID:61d7b7d8-c579-11f0-bb95-0a58a9feac02
DTSTAMP:20251216T154557Z
SUMMARY:Girls Soccer @ EIL Tournament
URL;VALUE=URI:https://www.lpssonline.com/schools/acadiana/calendar/8803879/
 girls-soccer-eil-tournament
DTSTART;VALUE=DATE:20260104
DTEND;VALUE=DATE:20260105
END:VEVENT
END:VCALENDAR
