BEGIN:VCALENDAR
VERSION:2.0
PRODID:SchoolNow
CALSCALE:GREGORIAN
BEGIN:VEVENT
UID:61d7ba76-c579-11f0-b95c-0a58a9feac02
DTSTAMP:20251216T154557Z
SUMMARY:Girls Soccer @ Bulldog Invitational
URL;VALUE=URI:https://www.lpssonline.com/schools/acadiana/calendar/8803880/
 girls-soccer-bulldog-invitational
DTSTART;VALUE=DATE:20251122
DTEND;VALUE=DATE:20251123
END:VEVENT
END:VCALENDAR
