BEGIN:VCALENDAR
VERSION:2.0
PRODID:SchoolNow
CALSCALE:GREGORIAN
BEGIN:VEVENT
UID:61d7bd50-c579-11f0-a061-0a58a9feac02
DTSTAMP:20251216T154556Z
SUMMARY:Band Concert (At LHS)- Himel
URL;VALUE=URI:https://www.lpssonline.com/schools/acadiana/calendar/8803881/
 band-concert-at-lhs-himel
DTSTART:20260512T223000Z
DTEND:20260513T003000Z
END:VEVENT
END:VCALENDAR
