BEGIN:VCALENDAR
VERSION:2.0
PRODID:SchoolNow
CALSCALE:GREGORIAN
BEGIN:VEVENT
UID:61d7c11a-c579-11f0-8055-0a58a9feac02
DTSTAMP:20251216T154557Z
SUMMARY:Girls Soccer @ LRCA
LOCATION:JV @ 6:30
URL;VALUE=URI:https://www.lpssonline.com/schools/acadiana/calendar/8803882/
 girls-soccer-lrca
DTSTART:20251218T003000Z
DTEND:20251218T013000Z
END:VEVENT
END:VCALENDAR
