BEGIN:VCALENDAR
VERSION:2.0
PRODID:SchoolNow
CALSCALE:GREGORIAN
BEGIN:VEVENT
UID:61d7c5d4-c579-11f0-a952-0a58a9feac02
DTSTAMP:20251216T154556Z
SUMMARY:Girls Soccer vs Southside (H)
LOCATION:JV @ 5:30/ V @ 7:00
URL;VALUE=URI:https://www.lpssonline.com/schools/acadiana/calendar/8803884/
 girls-soccer-vs-southside-h
DTSTART:20260112T233000Z
DTEND:20260113T023000Z
END:VEVENT
END:VCALENDAR
