BEGIN:VCALENDAR
VERSION:2.0
PRODID:SchoolNow
CALSCALE:GREGORIAN
BEGIN:VEVENT
UID:622e561a-c579-11f0-9e4b-0a58a9feac02
DTSTAMP:20251216T154557Z
SUMMARY:Girls Soccer @ Sulphur
LOCATION:JV @ 5:30 /  V @ 7:00
URL;VALUE=URI:https://www.lpssonline.com/schools/acadiana/calendar/8803886/
 girls-soccer-sulphur
DTSTART:20260114T233000Z
DTEND:20260115T023000Z
END:VEVENT
END:VCALENDAR
